BEGIN:VCALENDAR
PRODID:-//eluceo/ical//2.0/EN
VERSION:2.0
CALSCALE:GREGORIAN
BEGIN:VEVENT
UID:hey.bayern.336239.6553698
DTSTAMP:20260421T040436Z
SUMMARY:Kino im Schloss Lindach
DTSTART;TZID=Europe/Berlin:20260507T193500
DTEND;TZID=Europe/Berlin:20260507T235900
LOCATION:Lindach 4\, -1 undefinierter Ort
GEO:48.237107;13.061571
X-APPLE-STRUCTURED-LOCATION;VALUE=URI;X-ADDRESS=Lindach 4\, -1 undefinierte
 r Ort;X-APPLE-RADIUS=49;X-TITLE=:geo:48.237107,13.061571
URL;VALUE=URI:https://hey-deutschland.de/events/336239
END:VEVENT
END:VCALENDAR
