BEGIN:VCALENDAR
PRODID:-//eluceo/ical//2.0/EN
VERSION:2.0
CALSCALE:GREGORIAN
BEGIN:VEVENT
UID:hey.bayern.336233.6360693
DTSTAMP:20260420T210944Z
SUMMARY:Kinderzaubershow in Urfahr
DTSTART;TZID=Europe/Berlin:20260420T160000
DTEND;TZID=Europe/Berlin:20260420T170000
LOCATION:Hauptstraße 54\, 4040 Linz\, Österreich
GEO:48.314552;14.282954
X-APPLE-STRUCTURED-LOCATION;VALUE=URI;X-ADDRESS=Hauptstraße 54\, 4040 Linz
 \, Österreich;X-APPLE-RADIUS=49;X-TITLE=:geo:48.314552,14.282954
URL;VALUE=URI:https://hey-deutschland.de/events/336233
END:VEVENT
END:VCALENDAR
