BEGIN:VCALENDAR
PRODID:-//eluceo/ical//2.0/EN
VERSION:2.0
CALSCALE:GREGORIAN
BEGIN:VEVENT
UID:hey.bayern.332129.6373428
DTSTAMP:20260422T212909Z
SUMMARY:Bauernmarkt
DTSTART;TZID=Europe/Berlin:20261114T073000
DTEND;TZID=Europe/Berlin:20261114T113000
URL;VALUE=URI:https://hey-deutschland.de/events/332129
END:VEVENT
END:VCALENDAR
