BEGIN:VCALENDAR
PRODID:-//eluceo/ical//2.0/EN
VERSION:2.0
CALSCALE:GREGORIAN
BEGIN:VEVENT
UID:hey.bayern.331613.6553556
DTSTAMP:20260420T235110Z
SUMMARY:Almschmankerl-Tag auf der Hoisn-Hütte
DTSTART;TZID=Europe/Berlin:20260505T080000
DTEND;TZID=Europe/Berlin:20260505T235900
LOCATION:4820 Bad Ischl\, Österreich
GEO:47.711530;13.623933
X-APPLE-STRUCTURED-LOCATION;VALUE=URI;X-ADDRESS=4820 Bad Ischl\, Österreic
 h;X-APPLE-RADIUS=49;X-TITLE=:geo:47.711530,13.623933
URL;VALUE=URI:https://hey-deutschland.de/events/331613
END:VEVENT
END:VCALENDAR
