BEGIN:VCALENDAR
PRODID:-//eluceo/ical//2.0/EN
VERSION:2.0
CALSCALE:GREGORIAN
BEGIN:VEVENT
UID:hey.bayern.331598.6553516
DTSTAMP:20260421T034708Z
SUMMARY:Almführungen auf der Rettenbachalm
DTSTART;TZID=Europe/Berlin:20260815T150000
DTEND;TZID=Europe/Berlin:20260815T180000
LOCATION:4820 Bad Ischl\, Österreich
GEO:47.692548;13.714435
X-APPLE-STRUCTURED-LOCATION;VALUE=URI;X-ADDRESS=4820 Bad Ischl\, Österreic
 h;X-APPLE-RADIUS=49;X-TITLE=:geo:47.692548,13.714435
URL;VALUE=URI:https://hey-deutschland.de/events/331598
END:VEVENT
END:VCALENDAR
